Package: SamSPECTRAL Version: 1.53.0 Command: /home/biocbuild/bbs-3.17-bioc/R/bin/R CMD INSTALL SamSPECTRAL StartedAt: 2023-04-12 01:33:50 -0400 (Wed, 12 Apr 2023) EndedAt: 2023-04-12 01:34:10 -0400 (Wed, 12 Apr 2023) EllapsedTime: 19.3 seconds RetCode: 0 Status: OK