Package: SemDist Version: 1.33.0 Command: /home/biocbuild/bbs-3.17-bioc/R/bin/R CMD check --install=check:SemDist.install-out.txt --library=/home/biocbuild/bbs-3.17-bioc/R/site-library --timings SemDist_1.33.0.tar.gz StartedAt: 2023-04-11 23:28:57 -0400 (Tue, 11 Apr 2023) EndedAt: 2023-04-11 23:31:51 -0400 (Tue, 11 Apr 2023) EllapsedTime: 173.8 seconds RetCode: 0 Status: OK CheckDir: SemDist.Rcheck Warnings: 0