Package: SplicingGraphs Version: 1.39.0 Command: /home/biocbuild/bbs-3.17-bioc/R/bin/R CMD INSTALL SplicingGraphs StartedAt: 2023-04-11 15:22:22 -0400 (Tue, 11 Apr 2023) EndedAt: 2023-04-11 15:23:05 -0400 (Tue, 11 Apr 2023) EllapsedTime: 43.2 seconds RetCode: 0 Status: OK