Package: SplicingGraphs Version: 1.39.0 Command: /home/biocbuild/bbs-3.17-bioc/R/bin/R CMD check --install=check:SplicingGraphs.install-out.txt --library=/home/biocbuild/bbs-3.17-bioc/R/site-library --timings SplicingGraphs_1.39.0.tar.gz StartedAt: 2023-04-12 09:38:12 -0400 (Wed, 12 Apr 2023) EndedAt: 2023-04-12 09:49:43 -0400 (Wed, 12 Apr 2023) EllapsedTime: 690.8 seconds RetCode: 1 Status: ERROR CheckDir: SplicingGraphs.Rcheck Warnings: NA