Package: SynExtend Version: 1.11.7 Command: /home/biocbuild/bbs-3.17-bioc/R/bin/R CMD build --keep-empty-dirs --no-resave-data SynExtend StartedAt: 2023-04-11 18:10:48 -0400 (Tue, 11 Apr 2023) EndedAt: 2023-04-11 18:11:28 -0400 (Tue, 11 Apr 2023) EllapsedTime: 39.6 seconds RetCode: 0 Status: OK PackageFile: SynExtend_1.11.7.tar.gz PackageFileSize: 2.124 MiB