Package: SynExtend Version: 1.11.7 Command: /home/biocbuild/bbs-3.17-bioc/R/bin/R CMD check --install=check:SynExtend.install-out.txt --library=/home/biocbuild/bbs-3.17-bioc/R/site-library --timings SynExtend_1.11.7.tar.gz StartedAt: 2023-04-12 00:01:23 -0400 (Wed, 12 Apr 2023) EndedAt: 2023-04-12 00:04:12 -0400 (Wed, 12 Apr 2023) EllapsedTime: 169.8 seconds RetCode: 0 Status: WARNINGS CheckDir: SynExtend.Rcheck Warnings: 1