Package: TCseq Version: 1.23.0 Command: /home/biocbuild/bbs-3.17-bioc/R/bin/R CMD check --install=check:TCseq.install-out.txt --library=/home/biocbuild/bbs-3.17-bioc/R/library --timings TCseq_1.23.0.tar.gz StartedAt: 2023-01-12 00:41:12 -0500 (Thu, 12 Jan 2023) EndedAt: 2023-01-12 00:44:52 -0500 (Thu, 12 Jan 2023) EllapsedTime: 219.5 seconds RetCode: 0 Status: OK CheckDir: TCseq.Rcheck Warnings: 0