Package: TCseq Version: 1.23.2 Command: /home/biocbuild/bbs-3.17-bioc/R/bin/R CMD INSTALL TCseq StartedAt: 2023-04-12 01:41:08 -0400 (Wed, 12 Apr 2023) EndedAt: 2023-04-12 01:41:50 -0400 (Wed, 12 Apr 2023) EllapsedTime: 41.6 seconds RetCode: 0 Status: OK