Package: TEQC Version: 4.21.0 Command: /home/biocbuild/bbs-3.17-bioc/R/bin/R CMD check --install=check:TEQC.install-out.txt --library=/home/biocbuild/bbs-3.17-bioc/R/site-library --timings TEQC_4.21.0.tar.gz StartedAt: 2023-04-12 09:52:28 -0400 (Wed, 12 Apr 2023) EndedAt: 2023-04-12 09:54:28 -0400 (Wed, 12 Apr 2023) EllapsedTime: 120.3 seconds RetCode: 0 Status: WARNINGS CheckDir: TEQC.Rcheck Warnings: 1