Package: TEQC Version: 4.21.0 Command: /home/biocbuild/bbs-3.17-bioc/R/bin/R CMD INSTALL TEQC StartedAt: 2023-04-12 01:40:30 -0400 (Wed, 12 Apr 2023) EndedAt: 2023-04-12 01:40:48 -0400 (Wed, 12 Apr 2023) EllapsedTime: 17.9 seconds RetCode: 0 Status: OK