Package: TreeSummarizedExperiment Version: 2.7.0 Command: /home/biocbuild/bbs-3.17-bioc/R/bin/R CMD check --install=check:TreeSummarizedExperiment.install-out.txt --library=/home/biocbuild/bbs-3.17-bioc/R/site-library --timings TreeSummarizedExperiment_2.7.0.tar.gz StartedAt: 2023-04-12 00:13:18 -0400 (Wed, 12 Apr 2023) EndedAt: 2023-04-12 00:19:50 -0400 (Wed, 12 Apr 2023) EllapsedTime: 392.4 seconds RetCode: 0 Status: OK CheckDir: TreeSummarizedExperiment.Rcheck Warnings: 0