Package: Uniquorn Version: 2.19.0 Command: /home/biocbuild/bbs-3.17-bioc/R/bin/R CMD check --install=check:Uniquorn.install-out.txt --library=/home/biocbuild/bbs-3.17-bioc/R/site-library --timings Uniquorn_2.19.0.tar.gz StartedAt: 2023-04-12 10:06:22 -0400 (Wed, 12 Apr 2023) EndedAt: 2023-04-12 10:11:29 -0400 (Wed, 12 Apr 2023) EllapsedTime: 306.8 seconds RetCode: 0 Status: OK CheckDir: Uniquorn.Rcheck Warnings: 0