Package: Uniquorn Version: 2.19.0 Command: /home/biocbuild/bbs-3.17-bioc/R/bin/R CMD INSTALL Uniquorn StartedAt: 2023-04-12 01:46:26 -0400 (Wed, 12 Apr 2023) EndedAt: 2023-04-12 01:47:28 -0400 (Wed, 12 Apr 2023) EllapsedTime: 62.0 seconds RetCode: 0 Status: OK