Package: VCFArray Version: 1.15.0 Command: /home/biocbuild/bbs-3.17-bioc/R/bin/R CMD build --keep-empty-dirs --no-resave-data VCFArray StartedAt: 2023-04-11 18:18:06 -0400 (Tue, 11 Apr 2023) EndedAt: 2023-04-11 18:19:21 -0400 (Tue, 11 Apr 2023) EllapsedTime: 75.3 seconds RetCode: 0 Status: OK PackageFile: VCFArray_1.15.0.tar.gz PackageFileSize: 288.3 KiB