Package: VCFArray Version: 1.15.0 Command: /home/biocbuild/bbs-3.17-bioc/R/bin/R CMD check --install=check:VCFArray.install-out.txt --library=/home/biocbuild/bbs-3.17-bioc/R/site-library --timings VCFArray_1.15.0.tar.gz StartedAt: 2023-04-12 00:21:43 -0400 (Wed, 12 Apr 2023) EndedAt: 2023-04-12 00:27:29 -0400 (Wed, 12 Apr 2023) EllapsedTime: 346.2 seconds RetCode: 0 Status: OK CheckDir: VCFArray.Rcheck Warnings: 0