Package: VCFArray Version: 1.15.0 Command: /home/biocbuild/bbs-3.17-bioc/R/bin/R CMD INSTALL VCFArray StartedAt: 2023-04-11 15:21:07 -0400 (Tue, 11 Apr 2023) EndedAt: 2023-04-11 15:21:50 -0400 (Tue, 11 Apr 2023) EllapsedTime: 42.8 seconds RetCode: 0 Status: OK