Package: Wrench Version: 1.17.0 Command: /home/biocbuild/bbs-3.17-bioc/R/bin/R CMD build --keep-empty-dirs --no-resave-data Wrench StartedAt: 2023-04-12 04:29:11 -0400 (Wed, 12 Apr 2023) EndedAt: 2023-04-12 04:29:53 -0400 (Wed, 12 Apr 2023) EllapsedTime: 42.2 seconds RetCode: 0 Status: OK PackageFile: Wrench_1.17.0.tar.gz PackageFileSize: 224.8 KiB