git_url: https://git.bioconductor.org/packages/affyContam git_branch: devel git_last_commit: 61b14f0 git_last_commit_date: 2022-11-01 11:04:10 -0400 (Tue, 01 Nov 2022) Package: affyContam Version: 1.57.0 Maintainer: V. Carey MaintainerEmail: stvjc at channing.harvard.edu