Package: affycomp Version: 1.75.0 Command: /home/biocbuild/bbs-3.17-bioc/R/bin/R CMD INSTALL affycomp StartedAt: 2023-04-12 01:33:20 -0400 (Wed, 12 Apr 2023) EndedAt: 2023-04-12 01:33:34 -0400 (Wed, 12 Apr 2023) EllapsedTime: 14.3 seconds RetCode: 0 Status: OK