Package: aggregateBioVar Version: 1.9.0 Command: /home/biocbuild/bbs-3.17-bioc/R/bin/R CMD build --keep-empty-dirs --no-resave-data aggregateBioVar StartedAt: 2023-04-12 02:10:08 -0400 (Wed, 12 Apr 2023) EndedAt: 2023-04-12 02:11:18 -0400 (Wed, 12 Apr 2023) EllapsedTime: 69.3 seconds RetCode: 0 Status: OK PackageFile: aggregateBioVar_1.9.0.tar.gz PackageFileSize: 1.163 MiB