Package: aggregateBioVar Version: 1.9.0 Command: /home/biocbuild/bbs-3.17-bioc/R/bin/R CMD INSTALL aggregateBioVar StartedAt: 2023-04-12 01:38:17 -0400 (Wed, 12 Apr 2023) EndedAt: 2023-04-12 01:38:48 -0400 (Wed, 12 Apr 2023) EllapsedTime: 30.7 seconds RetCode: 0 Status: OK