Package: annotationTools Version: 1.73.0 Command: /home/biocbuild/bbs-3.17-bioc/R/bin/R CMD build --keep-empty-dirs --no-resave-data annotationTools StartedAt: 2023-04-12 02:11:40 -0400 (Wed, 12 Apr 2023) EndedAt: 2023-04-12 02:11:50 -0400 (Wed, 12 Apr 2023) EllapsedTime: 10.0 seconds RetCode: 0 Status: OK PackageFile: annotationTools_1.73.0.tar.gz PackageFileSize: 326.4 KiB