Package: annotatr Version: 1.25.0 Command: /home/biocbuild/bbs-3.17-bioc/R/bin/R CMD check --install=check:annotatr.install-out.txt --library=/home/biocbuild/bbs-3.17-bioc/R/site-library --timings annotatr_1.25.0.tar.gz StartedAt: 2023-04-11 18:33:12 -0400 (Tue, 11 Apr 2023) EndedAt: 2023-04-11 18:40:03 -0400 (Tue, 11 Apr 2023) EllapsedTime: 411.9 seconds RetCode: 0 Status: OK CheckDir: annotatr.Rcheck Warnings: 0