Package: annotatr Version: 1.25.0 Command: /home/biocbuild/bbs-3.17-bioc/R/bin/R CMD INSTALL annotatr StartedAt: 2023-04-11 15:42:35 -0400 (Tue, 11 Apr 2023) EndedAt: 2023-04-11 15:43:16 -0400 (Tue, 11 Apr 2023) EllapsedTime: 40.7 seconds RetCode: 0 Status: OK