Package: batchelor Version: 1.15.1 Command: /home/biocbuild/bbs-3.17-bioc/R/bin/R CMD build --keep-empty-dirs --no-resave-data batchelor StartedAt: 2023-04-11 15:51:26 -0400 (Tue, 11 Apr 2023) EndedAt: 2023-04-11 15:55:50 -0400 (Tue, 11 Apr 2023) EllapsedTime: 264.2 seconds RetCode: 0 Status: OK PackageFile: batchelor_1.15.1.tar.gz PackageFileSize: 1.896 MiB