Package: biocGraph Version: 1.61.0 Command: /home/biocbuild/bbs-3.17-bioc/R/bin/R CMD build --keep-empty-dirs --no-resave-data biocGraph StartedAt: 2023-04-11 15:54:31 -0400 (Tue, 11 Apr 2023) EndedAt: 2023-04-11 15:54:58 -0400 (Tue, 11 Apr 2023) EllapsedTime: 26.8 seconds RetCode: 0 Status: OK PackageFile: biocGraph_1.61.0.tar.gz PackageFileSize: 442.5 KiB