Package: biocGraph Version: 1.61.0 Command: /home/biocbuild/bbs-3.17-bioc/R/bin/R CMD INSTALL biocGraph StartedAt: 2023-04-11 15:13:51 -0400 (Tue, 11 Apr 2023) EndedAt: 2023-04-11 15:14:05 -0400 (Tue, 11 Apr 2023) EllapsedTime: 14.4 seconds RetCode: 0 Status: OK