Package: biomaRt Version: 2.55.4 Command: /home/biocbuild/bbs-3.17-bioc/R/bin/R CMD INSTALL biomaRt StartedAt: 2023-04-12 01:41:05 -0400 (Wed, 12 Apr 2023) EndedAt: 2023-04-12 01:41:33 -0400 (Wed, 12 Apr 2023) EllapsedTime: 28.0 seconds RetCode: 0 Status: OK