git_url: https://git.bioconductor.org/packages/biovizBase git_branch: devel git_last_commit: 73f68c1 git_last_commit_date: 2022-11-01 11:06:19 -0400 (Tue, 01 Nov 2022) Package: biovizBase Version: 1.47.0 Maintainer: Michael Lawrence MaintainerEmail: michafla at gene.com