Package: biovizBase Version: 1.47.0 Command: /home/biocbuild/bbs-3.17-bioc/R/bin/R CMD check --install=check:biovizBase.install-out.txt --library=/home/biocbuild/bbs-3.17-bioc/R/site-library --timings biovizBase_1.47.0.tar.gz StartedAt: 2023-04-11 18:54:57 -0400 (Tue, 11 Apr 2023) EndedAt: 2023-04-11 19:01:21 -0400 (Tue, 11 Apr 2023) EllapsedTime: 383.6 seconds RetCode: 0 Status: WARNINGS CheckDir: biovizBase.Rcheck Warnings: 2