Package: borealis Version: 1.3.2 Command: /home/biocbuild/bbs-3.17-bioc/R/bin/R CMD check --install=check:borealis.install-out.txt --library=/home/biocbuild/bbs-3.17-bioc/R/site-library --timings borealis_1.3.2.tar.gz StartedAt: 2023-04-12 05:01:51 -0400 (Wed, 12 Apr 2023) EndedAt: 2023-04-12 05:07:57 -0400 (Wed, 12 Apr 2023) EllapsedTime: 365.9 seconds RetCode: 0 Status: OK CheckDir: borealis.Rcheck Warnings: 0