Package: brendaDb Version: 1.13.0 Command: /home/biocbuild/bbs-3.17-bioc/R/bin/R CMD build --keep-empty-dirs --no-resave-data brendaDb StartedAt: 2023-04-12 02:21:12 -0400 (Wed, 12 Apr 2023) EndedAt: 2023-04-12 02:21:41 -0400 (Wed, 12 Apr 2023) EllapsedTime: 29.1 seconds RetCode: 0 Status: OK PackageFile: brendaDb_1.13.0.tar.gz PackageFileSize: 637.4 KiB