Package: brendaDb Version: 1.13.0 Command: /home/biocbuild/bbs-3.17-bioc/R/bin/R CMD INSTALL brendaDb StartedAt: 2023-04-12 01:39:30 -0400 (Wed, 12 Apr 2023) EndedAt: 2023-04-12 01:39:53 -0400 (Wed, 12 Apr 2023) EllapsedTime: 23.0 seconds RetCode: 0 Status: OK