git_url: https://git.bioconductor.org/packages/bsseq git_branch: devel git_last_commit: ed8b19c git_last_commit_date: 2022-11-01 11:07:09 -0400 (Tue, 01 Nov 2022) Package: bsseq Version: 1.35.0 Maintainer: Kasper Daniel Hansen MaintainerEmail: kasperdanielhansen at gmail.com