git_url: https://git.bioconductor.org/packages/bugsigdbr git_branch: devel git_last_commit: b956d97 git_last_commit_date: 2023-02-20 05:46:56 -0400 (Mon, 20 Feb 2023) Package: bugsigdbr Version: 1.5.8 Maintainer: Ludwig Geistlinger MaintainerEmail: ludwig_geistlinger at hms.harvard.edu