Package: bumphunter Version: 1.41.0 Command: /home/biocbuild/bbs-3.17-bioc/R/bin/R CMD build --keep-empty-dirs --no-resave-data bumphunter StartedAt: 2023-04-11 15:59:28 -0400 (Tue, 11 Apr 2023) EndedAt: 2023-04-11 16:00:18 -0400 (Tue, 11 Apr 2023) EllapsedTime: 50.3 seconds RetCode: 0 Status: OK PackageFile: bumphunter_1.41.0.tar.gz PackageFileSize: 2.366 MiB