Package: bumphunter Version: 1.41.0 Command: /home/biocbuild/bbs-3.17-bioc/R/bin/R CMD check --install=check:bumphunter.install-out.txt --library=/home/biocbuild/bbs-3.17-bioc/R/site-library --timings bumphunter_1.41.0.tar.gz StartedAt: 2023-04-11 19:01:21 -0400 (Tue, 11 Apr 2023) EndedAt: 2023-04-11 19:09:31 -0400 (Tue, 11 Apr 2023) EllapsedTime: 489.6 seconds RetCode: 0 Status: OK CheckDir: bumphunter.Rcheck Warnings: 0