Package: calm Version: 1.13.0 Command: /home/biocbuild/bbs-3.17-bioc/R/bin/R CMD build --keep-empty-dirs --no-resave-data calm StartedAt: 2023-04-11 16:00:01 -0400 (Tue, 11 Apr 2023) EndedAt: 2023-04-11 16:02:03 -0400 (Tue, 11 Apr 2023) EllapsedTime: 121.8 seconds RetCode: 0 Status: OK PackageFile: calm_1.13.0.tar.gz PackageFileSize: 389.6 KiB