Package: cbaf Version: 1.21.0 Command: /home/biocbuild/bbs-3.17-bioc/R/bin/R CMD check --install=check:cbaf.install-out.txt --library=/home/biocbuild/bbs-3.17-bioc/R/site-library --timings cbaf_1.21.0.tar.gz StartedAt: 2023-04-12 05:09:34 -0400 (Wed, 12 Apr 2023) EndedAt: 2023-04-12 05:14:59 -0400 (Wed, 12 Apr 2023) EllapsedTime: 324.9 seconds RetCode: 0 Status: OK CheckDir: cbaf.Rcheck Warnings: 0