Package: ccImpute Version: 1.1.0 Command: /home/biocbuild/bbs-3.17-bioc/R/bin/R CMD check --install=check:ccImpute.install-out.txt --library=/home/biocbuild/bbs-3.17-bioc/R/site-library --timings ccImpute_1.1.0.tar.gz StartedAt: 2023-04-11 19:06:40 -0400 (Tue, 11 Apr 2023) EndedAt: 2023-04-11 19:10:00 -0400 (Tue, 11 Apr 2023) EllapsedTime: 199.7 seconds RetCode: 0 Status: OK CheckDir: ccImpute.Rcheck Warnings: 0