git_url: https://git.bioconductor.org/packages/chromDraw git_branch: devel git_last_commit: 607aea8 git_last_commit_date: 2022-11-01 11:10:54 -0400 (Tue, 01 Nov 2022) Package: chromDraw Version: 2.29.0 Maintainer: Jan Janecka MaintainerEmail: jan.janecka at ceitec.muni.cz