Package: cliqueMS Version: 1.13.0 Command: /home/biocbuild/bbs-3.17-bioc/R/bin/R CMD check --install=check:cliqueMS.install-out.txt --library=/home/biocbuild/bbs-3.17-bioc/R/site-library --timings cliqueMS_1.13.0.tar.gz StartedAt: 2023-04-12 05:21:58 -0400 (Wed, 12 Apr 2023) EndedAt: 2023-04-12 05:27:33 -0400 (Wed, 12 Apr 2023) EllapsedTime: 335.0 seconds RetCode: 0 Status: OK CheckDir: cliqueMS.Rcheck Warnings: 0