Package: cmapR Version: 1.11.1 Command: /home/biocbuild/bbs-3.17-bioc/R/bin/R CMD build --keep-empty-dirs --no-resave-data cmapR StartedAt: 2023-04-11 16:08:42 -0400 (Tue, 11 Apr 2023) EndedAt: 2023-04-11 16:09:31 -0400 (Tue, 11 Apr 2023) EllapsedTime: 49.5 seconds RetCode: 0 Status: OK PackageFile: cmapR_1.11.1.tar.gz PackageFileSize: 3.735 MiB