Package: cn.farms Version: 1.47.0 Command: /home/biocbuild/bbs-3.17-bioc/R/bin/R CMD check --install=check:cn.farms.install-out.txt --library=/home/biocbuild/bbs-3.17-bioc/R/site-library --timings cn.farms_1.47.0.tar.gz StartedAt: 2023-04-12 05:25:09 -0400 (Wed, 12 Apr 2023) EndedAt: 2023-04-12 05:28:56 -0400 (Wed, 12 Apr 2023) EllapsedTime: 227.7 seconds RetCode: 0 Status: OK CheckDir: cn.farms.Rcheck Warnings: 0