Package: cn.farms Version: 1.47.0 Command: /home/biocbuild/bbs-3.17-bioc/R/bin/R CMD INSTALL cn.farms StartedAt: 2023-04-12 01:41:01 -0400 (Wed, 12 Apr 2023) EndedAt: 2023-04-12 01:41:49 -0400 (Wed, 12 Apr 2023) EllapsedTime: 47.7 seconds RetCode: 0 Status: OK