Package: coGPS Version: 1.43.0 Command: /home/biocbuild/bbs-3.17-bioc/R/bin/R CMD build --keep-empty-dirs --no-resave-data coGPS StartedAt: 2023-04-11 16:10:17 -0400 (Tue, 11 Apr 2023) EndedAt: 2023-04-11 16:10:26 -0400 (Tue, 11 Apr 2023) EllapsedTime: 9.0 seconds RetCode: 0 Status: OK PackageFile: coGPS_1.43.0.tar.gz PackageFileSize: 1.638 MiB