Package: coGPS Version: 1.43.0 Command: /home/biocbuild/bbs-3.17-bioc/R/bin/R CMD check --install=check:coGPS.install-out.txt --library=/home/biocbuild/bbs-3.17-bioc/R/site-library --timings coGPS_1.43.0.tar.gz StartedAt: 2023-04-11 19:26:58 -0400 (Tue, 11 Apr 2023) EndedAt: 2023-04-11 19:27:33 -0400 (Tue, 11 Apr 2023) EllapsedTime: 35.3 seconds RetCode: 0 Status: OK CheckDir: coGPS.Rcheck Warnings: 0