Package: coGPS Version: 1.43.0 Command: /home/biocbuild/bbs-3.17-bioc/R/bin/R CMD INSTALL coGPS StartedAt: 2023-04-11 15:02:33 -0400 (Tue, 11 Apr 2023) EndedAt: 2023-04-11 15:02:46 -0400 (Tue, 11 Apr 2023) EllapsedTime: 13.0 seconds RetCode: 0 Status: OK