Package: combi Version: 1.11.0 Command: /home/biocbuild/bbs-3.17-bioc/R/bin/R CMD build --keep-empty-dirs --no-resave-data combi StartedAt: 2023-04-11 16:10:41 -0400 (Tue, 11 Apr 2023) EndedAt: 2023-04-11 16:12:36 -0400 (Tue, 11 Apr 2023) EllapsedTime: 114.7 seconds RetCode: 0 Status: OK PackageFile: combi_1.11.0.tar.gz PackageFileSize: 1.371 MiB