Package: combi Version: 1.11.0 Command: /home/biocbuild/bbs-3.17-bioc/R/bin/R CMD check --install=check:combi.install-out.txt --library=/home/biocbuild/bbs-3.17-bioc/R/site-library --timings combi_1.11.0.tar.gz StartedAt: 2023-04-11 19:27:28 -0400 (Tue, 11 Apr 2023) EndedAt: 2023-04-11 19:35:56 -0400 (Tue, 11 Apr 2023) EllapsedTime: 507.4 seconds RetCode: 0 Status: OK CheckDir: combi.Rcheck Warnings: 0